BEGIN:VCALENDAR
VERSION:2.0
PRODID:-//Raz & Naama//Wedding//HE
CALSCALE:GREGORIAN
METHOD:PUBLISH
BEGIN:VEVENT
UID:wedding-raz-naama-20260510@raz-naama.com
DTSTART:20260510T150000Z
DTEND:20260510T200000Z
SUMMARY:החתונה של רז ונעמה 🤍
DESCRIPTION:קבלת פנים ב־18:00\nחופה ב־19:00\nקונסול האוס\, תל אביב-יפו\n\nhttps://wedding.raz-naama.com
LOCATION:קונסול האוס\, תל אביב-יפו
URL:https://wedding.raz-naama.com
STATUS:CONFIRMED
END:VEVENT
END:VCALENDAR
